BEGIN:VCALENDAR
VERSION:2.0
PRODID:-//eventon.com NONSGML v1.0//EN
CALSCALE:GREGORIAN
METHOD:PUBLISH
BEGIN:VEVENT
UID:69eb7a3980040
DTSTAMP:20260424T141209Z
DTSTART:20260226T180000Z
DTEND:20260314T210000Z
LOCATION:Zaragoza Mariano de la Gasca 23\,  50006\,  Zaragoza
SUMMARY:Exposición Carmen Marcos y Pau López Vila
DESCRIPTION:Exposición de Pintura de Carmen Marcos y Pau López Vila Del 2
 6 de Febrero al 14 de enero de 18:00 a 21:00 horas. De lunes a sábado Nues
 tra colaboración con Arte actual nos ha traído a dos artistas realistas a
  nuestra sala\,  Pau venido de Barcelona y Carmen de Madrid[..]\nhttps://ww
 w.laagrupacion.net/events/exposicion-carmen-marcos-y-pau-lopez-vila/
URL:https://www.laagrupacion.net/events/exposicion-carmen-marcos-y-pau-lopez-vila/
END:VEVENT
END:VCALENDAR