BEGIN:VCALENDAR
VERSION:2.0
PRODID:-//eventon.com NONSGML v1.0//EN
CALSCALE:GREGORIAN
METHOD:PUBLISH
BEGIN:VEVENT
UID:69eb789383d07
DTSTAMP:20260424T140507Z
DTSTART:20260412T100000Z
DTEND:20260531T100000Z
LOCATION:Zaragoza Mariano de la Gasca 23\,  50006\,  Zaragoza
SUMMARY:XII Torneo de Primavera Memorial Fernando Ballano 2026
DESCRIPTION:XII Torneo de Primavera 2026 Memorial Fernando Ballano La secci
 ón de ajedrez de la Agrupación Artística Aragonesa organiza el XII Torne
 o de Primavera 2026 – Memorial Fernando Ballano\,  una cita ya consolidad
 a en el calendario ajedrecístico aragonés. Un torneo valedero para Elo FI
 DE y Elo FADA\,  pensado para jugadores federados[..]\nhttps://www.laagrupa
 cion.net/events/xii-torneo-de-primavera-memorial-fernando-ballano-2026/
URL:https://www.laagrupacion.net/events/xii-torneo-de-primavera-memorial-fernando-ballano-2026/
END:VEVENT
END:VCALENDAR